BEGIN:VCALENDAR
VERSION:2.0
PRODID:-//Snake River Valley Quilt Guild - ECPv6.15.20//NONSGML v1.0//EN
CALSCALE:GREGORIAN
METHOD:PUBLISH
X-ORIGINAL-URL:http://srvquiltguild.org
X-WR-CALDESC:Events for Snake River Valley Quilt Guild
REFRESH-INTERVAL;VALUE=DURATION:PT1H
X-Robots-Tag:noindex
X-PUBLISHED-TTL:PT1H
BEGIN:VTIMEZONE
TZID:America/Phoenix
BEGIN:STANDARD
TZOFFSETFROM:-0700
TZOFFSETTO:-0700
TZNAME:MST
DTSTART:20230101T000000
END:STANDARD
END:VTIMEZONE
BEGIN:VTIMEZONE
TZID:UTC
BEGIN:STANDARD
TZOFFSETFROM:+0000
TZOFFSETTO:+0000
TZNAME:UTC
DTSTART:20230101T000000
END:STANDARD
END:VTIMEZONE
BEGIN:VEVENT
DTSTART;TZID=America/Phoenix:20240215T180000
DTEND;TZID=America/Phoenix:20240215T210000
DTSTAMP:20260424T134253
CREATED:20240215T214230Z
LAST-MODIFIED:20240215T214307Z
UID:11376-1708020000-1708030800@srvquiltguild.org
SUMMARY:February General Meeting
DESCRIPTION:
URL:http://srvquiltguild.org/event/february-general-meeting/
LOCATION:CALVARY BAPTIST CHURCH\, 785 FIRST STREET\,  IDAHO FALLS\, ID\, United States
END:VEVENT
BEGIN:VEVENT
DTSTART;TZID=UTC:20240130T183000
DTEND;TZID=UTC:20240130T203000
DTSTAMP:20260424T134253
CREATED:20190110T062513Z
LAST-MODIFIED:20240116T020721Z
UID:10374-1706639400-1706646600@srvquiltguild.org
SUMMARY:SRVQG Board Meeting
DESCRIPTION:
URL:http://srvquiltguild.org/event/srvqg-board-meeting-6/
LOCATION:ID
END:VEVENT
BEGIN:VEVENT
DTSTART;TZID=America/Phoenix:20240120T103000
DTEND;TZID=America/Phoenix:20240120T153000
DTSTAMP:20260424T134253
CREATED:20240116T020552Z
LAST-MODIFIED:20240116T020552Z
UID:11359-1705746600-1705764600@srvquiltguild.org
SUMMARY:Improv Curves Class
DESCRIPTION:
URL:http://srvquiltguild.org/event/improv-curves-class/
LOCATION:Daydreams Quilt N Sew\, 802 Pancheri Drive\, Idaho Falls\, Idaho\, 83402
END:VEVENT
BEGIN:VEVENT
DTSTART;TZID=UTC:20240118T180000
DTEND;TZID=UTC:20240118T210000
DTSTAMP:20260424T134253
CREATED:20190110T062636Z
LAST-MODIFIED:20240116T015347Z
UID:10376-1705600800-1705611600@srvquiltguild.org
SUMMARY:SRVQG General Meeting
DESCRIPTION:
URL:http://srvquiltguild.org/event/srvqg-general-meeting-4/
LOCATION:CALVARY BAPTIST CHURCH\, 785 FIRST STREET\,  IDAHO FALLS\, ID\, United States
END:VEVENT
END:VCALENDAR